BEGIN:VCALENDAR
VERSION:2.0
PRODID:-//Hermandad de la Estrella - ECPv6.6.4.2//NONSGML v1.0//EN
CALSCALE:GREGORIAN
METHOD:PUBLISH
X-WR-CALNAME:Hermandad de la Estrella
X-ORIGINAL-URL:https://hermandad-estrella.org
X-WR-CALDESC:Eventos para Hermandad de la Estrella
REFRESH-INTERVAL;VALUE=DURATION:PT1H
X-Robots-Tag:noindex
X-PUBLISHED-TTL:PT1H
BEGIN:VTIMEZONE
TZID:Europe/Madrid
BEGIN:DAYLIGHT
TZOFFSETFROM:+0100
TZOFFSETTO:+0200
TZNAME:CEST
DTSTART:20250330T010000
END:DAYLIGHT
BEGIN:STANDARD
TZOFFSETFROM:+0200
TZOFFSETTO:+0100
TZNAME:CET
DTSTART:20251026T010000
END:STANDARD
END:VTIMEZONE
BEGIN:VEVENT
DTSTART;TZID=Europe/Madrid:20250223T183000
DTEND;TZID=Europe/Madrid:20250223T200000
DTSTAMP:20260421T125549
CREATED:20250205T073123Z
LAST-MODIFIED:20250205T073131Z
UID:35292-1740335400-1740340800@hermandad-estrella.org
SUMMARY:TEATRO A BENEFICIO DE LA BOLSA DE CARIDAD
DESCRIPTION:Las entradas pueden retirarse\, con un donativo de 10 euros\, en la Tienda de Recuerdos de la Hermandad\, de lunes a sábado\, de 10 a 13.15 h y de 18 a 19.45 h. El mismo día de la representación\, una hora antes en la taquilla del propio teatro. \nAsimismo\, se ha habilitado una fila cero para aquellas personas que quieran colaborar. Pueden hacerlo a través de Bizum (en el código 01694) o en el número de cuenta ES88 0081 0265 9100 0228 3530.
URL:https://hermandad-estrella.org/evento/teatro-a-beneficio-de-la-bolsa-de-caridad/
LOCATION:Teatro Salesianos de Triana\, Condes de Bustillo\,17\, Sevilla\, 41010\, Spain
CATEGORIES:Eventos
END:VEVENT
END:VCALENDAR