BEGIN:VCALENDAR
VERSION:2.0
PRODID:-//Hermandad de la Estrella - ECPv6.6.4.2//NONSGML v1.0//EN
CALSCALE:GREGORIAN
METHOD:PUBLISH
X-WR-CALNAME:Hermandad de la Estrella
X-ORIGINAL-URL:https://hermandad-estrella.org
X-WR-CALDESC:Eventos para Hermandad de la Estrella
REFRESH-INTERVAL;VALUE=DURATION:PT1H
X-Robots-Tag:noindex
X-PUBLISHED-TTL:PT1H
BEGIN:VTIMEZONE
TZID:Europe/Madrid
BEGIN:DAYLIGHT
TZOFFSETFROM:+0100
TZOFFSETTO:+0200
TZNAME:CEST
DTSTART:20230326T010000
END:DAYLIGHT
BEGIN:STANDARD
TZOFFSETFROM:+0200
TZOFFSETTO:+0100
TZNAME:CET
DTSTART:20231029T010000
END:STANDARD
BEGIN:DAYLIGHT
TZOFFSETFROM:+0100
TZOFFSETTO:+0200
TZNAME:CEST
DTSTART:20240331T010000
END:DAYLIGHT
BEGIN:STANDARD
TZOFFSETFROM:+0200
TZOFFSETTO:+0100
TZNAME:CET
DTSTART:20241027T010000
END:STANDARD
BEGIN:DAYLIGHT
TZOFFSETFROM:+0100
TZOFFSETTO:+0200
TZNAME:CEST
DTSTART:20250330T010000
END:DAYLIGHT
BEGIN:STANDARD
TZOFFSETFROM:+0200
TZOFFSETTO:+0100
TZNAME:CET
DTSTART:20251026T010000
END:STANDARD
BEGIN:DAYLIGHT
TZOFFSETFROM:+0100
TZOFFSETTO:+0200
TZNAME:CEST
DTSTART:20260329T010000
END:DAYLIGHT
BEGIN:STANDARD
TZOFFSETFROM:+0200
TZOFFSETTO:+0100
TZNAME:CET
DTSTART:20261025T010000
END:STANDARD
END:VTIMEZONE
BEGIN:VEVENT
DTSTART;TZID=Europe/Madrid:20260301T093000
DTEND;TZID=Europe/Madrid:20260301T120000
DTSTAMP:20260419T184452
CREATED:20260216T174910Z
LAST-MODIFIED:20260216T174910Z
UID:37532-1772357400-1772366400@hermandad-estrella.org
SUMMARY:FUNCION PRINCIPAL DE INSTITUTO
DESCRIPTION:Presidiendo la Sagrada Eucaristía Fray Francisco Javier Rodríguez Sánchez\, O.P.\, párroco de San Jacinto y Director Espiritual.\nEn el ofertorio de la Misa\, harán todos los hermanos solemne y pública Protestación de Fe. En la Función intervendrá la Sociedad Filarmónica Ntra. Sra. de la Oliva de Salteras.
URL:https://hermandad-estrella.org/evento/funcion-principal-de-instituto-2/
LOCATION:Parroquia de San Jacinto\, Calle Pagés del Corro\, 88\, Sevilla\, Sevilla\, 41010\, España
CATEGORIES:Eventos
END:VEVENT
BEGIN:VEVENT
DTSTART;TZID=Europe/Madrid:20260228T200000
DTEND;TZID=Europe/Madrid:20260228T220000
DTSTAMP:20260419T184452
CREATED:20260216T160829Z
LAST-MODIFIED:20260216T160829Z
UID:37549-1772308800-1772316000@hermandad-estrella.org
SUMMARY:SOLEMNE QUINARIO
DESCRIPTION:En la Parroquia de San Jacinto\, comienza a las 20 h con el rezo del Santo Rosario\, Ejercicio de Quinario y celebración de la Santa Misa con Homilía presidiendo la Sagrada Eucaristía el Rvdo. P. Sr. D. Enrique Gómez-Blanco Pontes\, misionero redentorista.
URL:https://hermandad-estrella.org/evento/solemne-quinario-2026/2026-02-28/
LOCATION:Parroquia de San Jacinto\, Calle Pagés del Corro\, 88\, Sevilla\, Sevilla\, 41010\, España
CATEGORIES:Cultos,Eventos
END:VEVENT
BEGIN:VEVENT
DTSTART;TZID=Europe/Madrid:20260227T200000
DTEND;TZID=Europe/Madrid:20260227T220000
DTSTAMP:20260419T184452
CREATED:20260216T160829Z
LAST-MODIFIED:20260216T160829Z
UID:37548-1772222400-1772229600@hermandad-estrella.org
SUMMARY:SOLEMNE QUINARIO
DESCRIPTION:En la Parroquia de San Jacinto\, comienza a las 20 h con el rezo del Santo Rosario\, Ejercicio de Quinario y celebración de la Santa Misa con Homilía presidiendo la Sagrada Eucaristía el Rvdo. P. Sr. D. Enrique Gómez-Blanco Pontes\, misionero redentorista.
URL:https://hermandad-estrella.org/evento/solemne-quinario-2026/2026-02-27/
LOCATION:Parroquia de San Jacinto\, Calle Pagés del Corro\, 88\, Sevilla\, Sevilla\, 41010\, España
CATEGORIES:Cultos,Eventos
END:VEVENT
BEGIN:VEVENT
DTSTART;TZID=Europe/Madrid:20260227T180000
DTEND;TZID=Europe/Madrid:20260227T190000
DTSTAMP:20260419T184452
CREATED:20260220T133234Z
LAST-MODIFIED:20260220T133234Z
UID:37557-1772215200-1772218800@hermandad-estrella.org
SUMMARY:CONFIRMACIONES
DESCRIPTION:Preside el arzobispo de Sevilla\, monseñor José Ángel Saiz Meneses. \n 
URL:https://hermandad-estrella.org/evento/confirmaciones-2026/
LOCATION:Parroquia de San Jacinto\, Calle Pagés del Corro\, 88\, Sevilla\, Sevilla\, 41010\, España
CATEGORIES:Cultos,Eventos
END:VEVENT
BEGIN:VEVENT
DTSTART;TZID=Europe/Madrid:20260226T200000
DTEND;TZID=Europe/Madrid:20260226T220000
DTSTAMP:20260419T184452
CREATED:20260216T160829Z
LAST-MODIFIED:20260216T160829Z
UID:37547-1772136000-1772143200@hermandad-estrella.org
SUMMARY:SOLEMNE QUINARIO
DESCRIPTION:En la Parroquia de San Jacinto\, comienza a las 20 h con el rezo del Santo Rosario\, Ejercicio de Quinario y celebración de la Santa Misa con Homilía presidiendo la Sagrada Eucaristía el Rvdo. P. Sr. D. Enrique Gómez-Blanco Pontes\, misionero redentorista.
URL:https://hermandad-estrella.org/evento/solemne-quinario-2026/2026-02-26/
LOCATION:Parroquia de San Jacinto\, Calle Pagés del Corro\, 88\, Sevilla\, Sevilla\, 41010\, España
CATEGORIES:Cultos,Eventos
END:VEVENT
BEGIN:VEVENT
DTSTART;TZID=Europe/Madrid:20260225T200000
DTEND;TZID=Europe/Madrid:20260225T220000
DTSTAMP:20260419T184452
CREATED:20260216T160829Z
LAST-MODIFIED:20260216T160829Z
UID:37546-1772049600-1772056800@hermandad-estrella.org
SUMMARY:SOLEMNE QUINARIO
DESCRIPTION:En la Parroquia de San Jacinto\, comienza a las 20 h con el rezo del Santo Rosario\, Ejercicio de Quinario y celebración de la Santa Misa con Homilía presidiendo la Sagrada Eucaristía el Rvdo. P. Sr. D. Enrique Gómez-Blanco Pontes\, misionero redentorista.
URL:https://hermandad-estrella.org/evento/solemne-quinario-2026/2026-02-25/
LOCATION:Parroquia de San Jacinto\, Calle Pagés del Corro\, 88\, Sevilla\, Sevilla\, 41010\, España
CATEGORIES:Cultos,Eventos
END:VEVENT
BEGIN:VEVENT
DTSTART;TZID=Europe/Madrid:20260224T200000
DTEND;TZID=Europe/Madrid:20260224T220000
DTSTAMP:20260419T184452
CREATED:20260216T160829Z
LAST-MODIFIED:20260217T104252Z
UID:37530-1771963200-1771970400@hermandad-estrella.org
SUMMARY:SOLEMNE QUINARIO
DESCRIPTION:En la Parroquia de San Jacinto\, comienza a las 20 h con el rezo del Santo Rosario\, Ejercicio de Quinario y celebración de la Santa Misa con Homilía presidiendo la Sagrada Eucaristía el Rvdo. P. Sr. D. Enrique Gómez-Blanco Pontes\, misionero redentorista.
URL:https://hermandad-estrella.org/evento/solemne-quinario-2026/2026-02-24/
LOCATION:Parroquia de San Jacinto\, Calle Pagés del Corro\, 88\, Sevilla\, Sevilla\, 41010\, España
CATEGORIES:Cultos,Eventos
END:VEVENT
BEGIN:VEVENT
DTSTART;TZID=Europe/Madrid:20250316T093000
DTEND;TZID=Europe/Madrid:20250316T113000
DTSTAMP:20260419T184452
CREATED:20250126T233657Z
LAST-MODIFIED:20250126T233705Z
UID:35253-1742117400-1742124600@hermandad-estrella.org
SUMMARY:FUNCIÓN PRINCIPAL DE INSTITUTO
DESCRIPTION:
URL:https://hermandad-estrella.org/evento/funcion-principal-de-instituto-2025/
LOCATION:Parroquia de San Jacinto\, Calle Pagés del Corro\, 88\, Sevilla\, Sevilla\, 41010\, España
CATEGORIES:Cultos,Eventos
END:VEVENT
BEGIN:VEVENT
DTSTART;TZID=Europe/Madrid:20250311T200000
DTEND;TZID=Europe/Madrid:20250315T213000
DTSTAMP:20260419T184452
CREATED:20250126T233605Z
LAST-MODIFIED:20250126T233620Z
UID:35251-1741723200-1742074200@hermandad-estrella.org
SUMMARY:SOLEMNE QUINARIO
DESCRIPTION:
URL:https://hermandad-estrella.org/evento/solemne-quinario-2025/
LOCATION:Parroquia de San Jacinto\, Calle Pagés del Corro\, 88\, Sevilla\, Sevilla\, 41010\, España
CATEGORIES:Cultos,Eventos
END:VEVENT
BEGIN:VEVENT
DTSTART;TZID=Europe/Madrid:20241030T203000
DTEND;TZID=Europe/Madrid:20241030T220000
DTSTAMP:20260419T184452
CREATED:20240802T173008Z
LAST-MODIFIED:20240802T173008Z
UID:33989-1730320200-1730325600@hermandad-estrella.org
SUMMARY:TRIDUO XXV ANIVERSARIO CORONACIÓN
DESCRIPTION:
URL:https://hermandad-estrella.org/evento/triduo-xxv-aniversario-coronacion/2024-10-30/
LOCATION:Parroquia de San Jacinto\, Calle Pagés del Corro\, 88\, Sevilla\, Sevilla\, 41010\, España
CATEGORIES:Cultos,Eventos
END:VEVENT
BEGIN:VEVENT
DTSTART;TZID=Europe/Madrid:20241029T203000
DTEND;TZID=Europe/Madrid:20241029T220000
DTSTAMP:20260419T184452
CREATED:20240802T173008Z
LAST-MODIFIED:20240802T173008Z
UID:33988-1730233800-1730239200@hermandad-estrella.org
SUMMARY:TRIDUO XXV ANIVERSARIO CORONACIÓN
DESCRIPTION:
URL:https://hermandad-estrella.org/evento/triduo-xxv-aniversario-coronacion/2024-10-29/
LOCATION:Parroquia de San Jacinto\, Calle Pagés del Corro\, 88\, Sevilla\, Sevilla\, 41010\, España
CATEGORIES:Cultos,Eventos
END:VEVENT
BEGIN:VEVENT
DTSTART;TZID=Europe/Madrid:20241028T203000
DTEND;TZID=Europe/Madrid:20241028T220000
DTSTAMP:20260419T184452
CREATED:20240802T173008Z
LAST-MODIFIED:20240802T173008Z
UID:33987-1730147400-1730152800@hermandad-estrella.org
SUMMARY:TRIDUO XXV ANIVERSARIO CORONACIÓN
DESCRIPTION:
URL:https://hermandad-estrella.org/evento/triduo-xxv-aniversario-coronacion/
LOCATION:Parroquia de San Jacinto\, Calle Pagés del Corro\, 88\, Sevilla\, Sevilla\, 41010\, España
CATEGORIES:Cultos,Eventos
END:VEVENT
BEGIN:VEVENT
DTSTART;TZID=Europe/Madrid:20240613T203000
DTEND;TZID=Europe/Madrid:20240613T223000
DTSTAMP:20260419T184452
CREATED:20240608T071756Z
LAST-MODIFIED:20240608T071756Z
UID:33433-1718310600-1718317800@hermandad-estrella.org
SUMMARY:MESA REDONDA Y CONCIERTO EN SAN JACINTO
DESCRIPTION:
URL:https://hermandad-estrella.org/evento/mesa-redonda-y-concierto-en-san-jacinto/
LOCATION:Parroquia de San Jacinto\, Calle Pagés del Corro\, 88\, Sevilla\, Sevilla\, 41010\, España
CATEGORIES:Eventos
END:VEVENT
BEGIN:VEVENT
DTSTART;TZID=Europe/Madrid:20240604T203000
DTEND;TZID=Europe/Madrid:20240604T213000
DTSTAMP:20260419T184452
CREATED:20240607T190429Z
LAST-MODIFIED:20240607T190512Z
UID:33416-1717533000-1717536600@hermandad-estrella.org
SUMMARY:ACTO EUCARÍSTICO DE LAS HERMANDADES SACRAMENTALES
DESCRIPTION:Organizado por la Hermandad de la Estrella en colaboración con el Consejo Superior de Hermandades y Cofradías de Sevilla.
URL:https://hermandad-estrella.org/evento/acto-eucaristico-de-las-hermandades-sacramentales/
LOCATION:Parroquia de San Jacinto\, Calle Pagés del Corro\, 88\, Sevilla\, Sevilla\, 41010\, España
CATEGORIES:Cultos,Eventos
END:VEVENT
BEGIN:VEVENT
DTSTART;TZID=Europe/Madrid:20240225T093000
DTEND;TZID=Europe/Madrid:20240225T113000
DTSTAMP:20260419T184452
CREATED:20231003T122920Z
LAST-MODIFIED:20231003T122920Z
UID:30197-1708853400-1708860600@hermandad-estrella.org
SUMMARY:FUNCIÓN PRINCIPAL DE INSTITUTO
DESCRIPTION:
URL:https://hermandad-estrella.org/evento/funcion-principal-de-instituto/
LOCATION:Parroquia de San Jacinto\, Calle Pagés del Corro\, 88\, Sevilla\, Sevilla\, 41010\, España
CATEGORIES:Cultos,Eventos
END:VEVENT
BEGIN:VEVENT
DTSTART;TZID=Europe/Madrid:20240220T200000
DTEND;TZID=Europe/Madrid:20240220T213000
DTSTAMP:20260419T184452
CREATED:20231003T122707Z
LAST-MODIFIED:20231003T122707Z
UID:30191-1708459200-1708464600@hermandad-estrella.org
SUMMARY:SOLEMNE QUINARIO
DESCRIPTION:
URL:https://hermandad-estrella.org/evento/solemne-quinario-2/2024-02-20/
LOCATION:Parroquia de San Jacinto\, Calle Pagés del Corro\, 88\, Sevilla\, Sevilla\, 41010\, España
CATEGORIES:Cultos,Eventos
END:VEVENT
BEGIN:VEVENT
DTSTART;TZID=Europe/Madrid:20240208T210000
DTEND;TZID=Europe/Madrid:20240208T220000
DTSTAMP:20260419T184452
CREATED:20240201T142959Z
LAST-MODIFIED:20240201T143009Z
UID:31267-1707426000-1707429600@hermandad-estrella.org
SUMMARY:Mesa redonda "Gloria de Dios y frecuencia del Culto"
DESCRIPTION:Mesa redonda: “Gloria de Dios y frecuencia del Culto”: La Hermandad de la Estrella y la liturgia en su historia. \nIntervienen: José Jesús Álvarez y Francis Segura. Modera: Javier Blanco. \n 
URL:https://hermandad-estrella.org/evento/mesa-redonda-gloria-de-dios-y-frecuencia-del-culto/
LOCATION:Parroquia de San Jacinto\, Calle Pagés del Corro\, 88\, Sevilla\, Sevilla\, 41010\, España
CATEGORIES:Eventos
END:VEVENT
BEGIN:VEVENT
DTSTART;TZID=Europe/Madrid:20240202T200000
DTEND;TZID=Europe/Madrid:20240202T210000
DTSTAMP:20260419T184452
CREATED:20240201T142746Z
LAST-MODIFIED:20240201T142746Z
UID:31265-1706904000-1706907600@hermandad-estrella.org
SUMMARY:FIESTA DE LA PRESENTACIÓN DEL SEÑOR
DESCRIPTION:El próximo viernes 2 de febrero nos uniremos a comunidad parroquial de San Jacinto para la celebración de la Fiesta de la Presentación del Señor\, también llamada de la Candelaria. \nCelebración de la Eucaristía\,  presidida por el Vicario Episcopal de Sevilla\, el Ilmo. Sr. d. Rafael Muñoz Pérez\, CO. En la misma\, participará la Escolanía ‘Domus Carmina’. \nPresentación de los niños nacidos en el año \nDurante la celebración\, los niños nacidos en el año se presentarán a Ntra. Sra. de la Candelaria. Todos los padres que deseen presentar a sus hijos (sean o no hermanos) ante la imagen de la Virgen de la Candelaria\, podrán hacerlo al finalizar la Eucaristía.
URL:https://hermandad-estrella.org/evento/fiesta-de-la-presentacion-del-senor/
LOCATION:Parroquia de San Jacinto\, Calle Pagés del Corro\, 88\, Sevilla\, Sevilla\, 41010\, España
CATEGORIES:Cultos,Eventos
END:VEVENT
BEGIN:VEVENT
DTSTART;TZID=Europe/Madrid:20231010T200000
DTEND;TZID=Europe/Madrid:20231010T213000
DTSTAMP:20260419T184452
CREATED:20231004T194758Z
LAST-MODIFIED:20231004T194855Z
UID:30213-1696968000-1696973400@hermandad-estrella.org
SUMMARY:FUNERAL PADRE EMILIO\, O.P.
DESCRIPTION:Eucaristía por el alma de fray Emilio García\, OP\, prior del convento de Santo Tomás de Sevilla.
URL:https://hermandad-estrella.org/evento/funeral-padre-emilio-o-p/
LOCATION:Parroquia de San Jacinto\, Calle Pagés del Corro\, 88\, Sevilla\, Sevilla\, 41010\, España
CATEGORIES:Eventos
END:VEVENT
END:VCALENDAR