BEGIN:VCALENDAR
VERSION:2.0
PRODID:-//Hermandad de la Estrella - ECPv6.6.4.2//NONSGML v1.0//EN
CALSCALE:GREGORIAN
METHOD:PUBLISH
X-ORIGINAL-URL:https://hermandad-estrella.org
X-WR-CALDESC:Eventos para Hermandad de la Estrella
REFRESH-INTERVAL;VALUE=DURATION:PT1H
X-Robots-Tag:noindex
X-PUBLISHED-TTL:PT1H
BEGIN:VTIMEZONE
TZID:Europe/Madrid
BEGIN:DAYLIGHT
TZOFFSETFROM:+0100
TZOFFSETTO:+0200
TZNAME:CEST
DTSTART:20250330T010000
END:DAYLIGHT
BEGIN:STANDARD
TZOFFSETFROM:+0200
TZOFFSETTO:+0100
TZNAME:CET
DTSTART:20251026T010000
END:STANDARD
END:VTIMEZONE
BEGIN:VEVENT
DTSTART;TZID=Europe/Madrid:20250926T150000
DTEND;TZID=Europe/Madrid:20250928T150000
DTSTAMP:20260425T190238
CREATED:20250907T164941Z
LAST-MODIFIED:20250907T165743Z
UID:36551-1758898800-1759071600@hermandad-estrella.org
SUMMARY:CAMPAMENTO
DESCRIPTION:
URL:https://hermandad-estrella.org/evento/campamento/
LOCATION:CASA HERMANDAD ROCIO GINES\, Plaza de Doñana\, 14\, El Rocío (Almonte)\, 21750
CATEGORIES:Eventos
END:VEVENT
END:VCALENDAR