BEGIN:VCALENDAR
VERSION:2.0
PRODID:-//Hermandad de la Estrella - ECPv6.6.4.2//NONSGML v1.0//EN
CALSCALE:GREGORIAN
METHOD:PUBLISH
X-ORIGINAL-URL:https://hermandad-estrella.org
X-WR-CALDESC:Eventos para Hermandad de la Estrella
REFRESH-INTERVAL;VALUE=DURATION:PT1H
X-Robots-Tag:noindex
X-PUBLISHED-TTL:PT1H
BEGIN:VTIMEZONE
TZID:Europe/Madrid
BEGIN:DAYLIGHT
TZOFFSETFROM:+0100
TZOFFSETTO:+0200
TZNAME:CEST
DTSTART:20230326T010000
END:DAYLIGHT
BEGIN:STANDARD
TZOFFSETFROM:+0200
TZOFFSETTO:+0100
TZNAME:CET
DTSTART:20231029T010000
END:STANDARD
BEGIN:DAYLIGHT
TZOFFSETFROM:+0100
TZOFFSETTO:+0200
TZNAME:CEST
DTSTART:20240331T010000
END:DAYLIGHT
BEGIN:STANDARD
TZOFFSETFROM:+0200
TZOFFSETTO:+0100
TZNAME:CET
DTSTART:20241027T010000
END:STANDARD
END:VTIMEZONE
BEGIN:VEVENT
DTSTART;TZID=Europe/Madrid:20231022T130000
DTEND;TZID=Europe/Madrid:20231022T140000
DTSTAMP:20260420T172444
CREATED:20231010T084615Z
LAST-MODIFIED:20231010T084845Z
UID:30266-1697979600-1697983200@hermandad-estrella.org
SUMMARY:FUNCIÓN SOLEMNE POR LA FIESTA DE SAN JUAN PABLO II
DESCRIPTION:Función Solemne con motivo de la fiesta de San Juan Pablo II. \nPreside nuestro director espiritual\, Fray Francisco Javier Rodríguez\, OP.
URL:https://hermandad-estrella.org/evento/funcion-solemne-por-la-fiesta-de-san-juan-pablo-ii/
LOCATION:Capilla Virgen de la Estrella\, San Jacinto\, 41\, Sevilla\, 41010\, España
CATEGORIES:Cultos,Eventos
END:VEVENT
BEGIN:VEVENT
DTSTART;TZID=Europe/Madrid:20231024T210000
DTEND;TZID=Europe/Madrid:20231024T220000
DTSTAMP:20260420T172444
CREATED:20231010T084225Z
LAST-MODIFIED:20231010T084225Z
UID:30262-1698181200-1698184800@hermandad-estrella.org
SUMMARY:CICLO FORMACIÓN HERMANDADES TRIANA- LOS REMEDIOS
DESCRIPTION:‘El aborto: una interrupción voluntaria que destruye dos vidas’\, a cargo de Consuelo Núñez Correas\, secretaria del Centro de Orientación Familiar de Triana-Los Remedios. En la capilla de la Fábrica de Tabacos de Sevilla\, sede de la Hermandad de las Cigarreras.
URL:https://hermandad-estrella.org/evento/ciclo-formacion-hermandades-triana-los-remedios-3/
CATEGORIES:Eventos
END:VEVENT
BEGIN:VEVENT
DTSTART;VALUE=DATE:20231028
DTEND;VALUE=DATE:20231029
DTSTAMP:20260420T172444
CREATED:20221103T112519Z
LAST-MODIFIED:20221103T112526Z
UID:14674-1698451200-1698537599@hermandad-estrella.org
SUMMARY:Boda ( Mañana )
DESCRIPTION:
URL:https://hermandad-estrella.org/evento/boda-manana-2/
CATEGORIES:Bodas y comuniones
END:VEVENT
BEGIN:VEVENT
DTSTART;TZID=Europe/Madrid:20231029T120000
DTEND;TZID=Europe/Madrid:20231029T124000
DTSTAMP:20260420T172444
CREATED:20231025T163821Z
LAST-MODIFIED:20231025T163821Z
UID:30313-1698580800-1698583200@hermandad-estrella.org
SUMMARY:Presentación logo y actos 25 aniversario
DESCRIPTION:
URL:https://hermandad-estrella.org/evento/presentacion-logo-y-actos-25-aniversario/
CATEGORIES:Eventos
END:VEVENT
BEGIN:VEVENT
DTSTART;TZID=Europe/Madrid:20231029T130000
DTEND;TZID=Europe/Madrid:20231029T140000
DTSTAMP:20260420T172444
CREATED:20231010T084711Z
LAST-MODIFIED:20231010T084742Z
UID:30268-1698584400-1698588000@hermandad-estrella.org
SUMMARY:MISA DE HERMANDAD
DESCRIPTION:
URL:https://hermandad-estrella.org/evento/misa-de-hermandad-7/2023-10-29/
LOCATION:Capilla Virgen de la Estrella\, San Jacinto\, 41\, Sevilla\, 41010\, España
CATEGORIES:Cultos,Eventos
END:VEVENT
BEGIN:VEVENT
DTSTART;TZID=Europe/Madrid:20231031T200000
DTEND;TZID=Europe/Madrid:20231031T220000
DTSTAMP:20260420T172444
CREATED:20230905T172256Z
LAST-MODIFIED:20231030T140655Z
UID:30016-1698782400-1698789600@hermandad-estrella.org
SUMMARY:XIV ANIVERSARIO CORONACIÓN
DESCRIPTION:A las 20h\, rezo del Santo Rosario. A las 20.30h \, Eucaristía. \nPreside el Rvdo. P. D. Francisco Miguel Valencia Bando\, Vicario Episcopal del Condado de Huelva y rector del Santuario de Ntra. Sra. del Rocío.
URL:https://hermandad-estrella.org/evento/xiv-aniversario-coronacion/
CATEGORIES:Cultos,Eventos
END:VEVENT
BEGIN:VEVENT
DTSTART;TZID=Europe/Madrid:20231031T220000
DTEND;TZID=Europe/Madrid:20231031T235500
DTSTAMP:20260420T172444
CREATED:20231010T085000Z
LAST-MODIFIED:20231010T085000Z
UID:30277-1698789600-1698796500@hermandad-estrella.org
SUMMARY:CÓCTEL-CELEBRACIÓN ANIVERSARIO CORONACIÓN
DESCRIPTION:Invitaciones en Mayordomía (40 euros) hasta el 27 de octubre.
URL:https://hermandad-estrella.org/evento/coctel-celebracion-aniversario-coronacion/
LOCATION:Alfarería 21 (Casa Montalván)\, Alfarería\, 21\, Sevilla\, Sevilla\, 41010\, España
CATEGORIES:Eventos
END:VEVENT
BEGIN:VEVENT
DTSTART;TZID=Europe/Madrid:20231104T120000
DTEND;TZID=Europe/Madrid:20231104T120000
DTSTAMP:20260420T172444
CREATED:20230510T182839Z
LAST-MODIFIED:20230510T182839Z
UID:23100-1699099200-1699099200@hermandad-estrella.org
SUMMARY:BODA MAÑANA
DESCRIPTION:
URL:https://hermandad-estrella.org/evento/boda-manana-8/
CATEGORIES:Bodas y comuniones
END:VEVENT
BEGIN:VEVENT
DTSTART;TZID=Europe/Madrid:20231107T210000
DTEND;TZID=Europe/Madrid:20231107T220000
DTSTAMP:20260420T172444
CREATED:20231010T084317Z
LAST-MODIFIED:20231010T084317Z
UID:30264-1699390800-1699394400@hermandad-estrella.org
SUMMARY:CICLO FORMACIÓN HERMANDADES TRIANA- LOS REMEDIOS
DESCRIPTION:Mesa Redonda: ‘Las vivencias y el día de después de las Jornadas Mundiales de la Juventud’. Participan Fray Engelbert Desirée Mbarga\, O.M.; hermana del Instituto Catequista Dolores Sopeña; miembro del Grupo Joven de la Hermandad de la Estrella y miembro de la Juventud de la Parroquia de la Blanca Paloma y Ntra. Sra. de la Candelaria.
URL:https://hermandad-estrella.org/evento/ciclo-formacion-hermandades-triana-los-remedios-4/
LOCATION:Capilla Virgen de la Estrella\, San Jacinto\, 41\, Sevilla\, 41010\, España
CATEGORIES:Eventos
END:VEVENT
BEGIN:VEVENT
DTSTART;TZID=Europe/Madrid:20231116T200000
DTEND;TZID=Europe/Madrid:20231116T210000
DTSTAMP:20260420T172444
CREATED:20231112T204207Z
LAST-MODIFIED:20231112T204627Z
UID:30443-1700164800-1700168400@hermandad-estrella.org
SUMMARY:MISA DE RÉQUIEM
DESCRIPTION:
URL:https://hermandad-estrella.org/evento/misa-de-requiem/
LOCATION:Capilla Virgen de la Estrella\, San Jacinto\, 41\, Sevilla\, 41010\, España
CATEGORIES:Cultos,Eventos
END:VEVENT
BEGIN:VEVENT
DTSTART;TZID=Europe/Madrid:20231118T110000
DTEND;TZID=Europe/Madrid:20231118T210000
DTSTAMP:20260420T172444
CREATED:20231112T212417Z
LAST-MODIFIED:20231112T212439Z
UID:30467-1700305200-1700341200@hermandad-estrella.org
SUMMARY:FIESTA CAMPERA A BENEFICIO DE LA BOLSA DE CARIDAD
DESCRIPTION:Toda la información en este enlace
URL:https://hermandad-estrella.org/evento/fiesta-campera-a-beneficio-de-la-bolsa-de-caridad/
CATEGORIES:Eventos
END:VEVENT
BEGIN:VEVENT
DTSTART;TZID=Europe/Madrid:20231124T210000
DTEND;TZID=Europe/Madrid:20231124T230000
DTSTAMP:20260420T172444
CREATED:20231112T212806Z
LAST-MODIFIED:20231112T212806Z
UID:30470-1700859600-1700866800@hermandad-estrella.org
SUMMARY:FESTIVAL FLAMENCO BENÉFICO
DESCRIPTION:El próximo viernes 24 de noviembre\,  la Hermandad de la Estrella\,  en colaboración con el Ayuntamiento de Sevilla y FIBES\, organiza un Festival Flamenco benéfico\, en recuerdo de Manuel Molina. El festival tendrá lugar en el Auditorio Al -Ándalus de FIBES\, a las 21 h. \nLos beneficios irán destinados a las obras de acondicionamiento del Centro Infantil ‘Virgen de la Estrella’ y a las distintas actividades asistenciales de la Bolsa de Caridad de nuestra Hermandad. \n Compra de entradas \nLas entradas ya se encuentran a la venta en la web de FIBES: https://www.fibestickets.es/espectaculo/hermandad-de-la-estrella/HESTR23 con precios comprendidos entre los 30 y 55 euros. \nAquellos hermanos que necesiten ayuda o asesoramiento para adquirir las entradas pueden acudir a las oficinas de la Hermandad (de lunes a jueves\, de 19 a 21 h) donde se les ayudará a retirarlas. \nFila cero \nAquellas personas que no puedan asistir al Festival pero quieran colaborar con el proyecto\, pueden enviar sus donaciones a la cuenta corriente de la Hermandad de la Estrella\, indicando en el asunto: nombre\, apellidos + Festival:  ES33 2100 8410 2122 0020 5620.
URL:https://hermandad-estrella.org/evento/festival-flamenco-benefico/
LOCATION:Sala Al\, Av. Alcalde Luis Uruñuela\, 1\, Sevilla\, Sevilla\, 41020
CATEGORIES:Eventos
END:VEVENT
BEGIN:VEVENT
DTSTART;TZID=Europe/Madrid:20231125T120000
DTEND;TZID=Europe/Madrid:20231125T120000
DTSTAMP:20260420T172444
CREATED:20230510T182951Z
LAST-MODIFIED:20230510T182951Z
UID:23102-1700913600-1700913600@hermandad-estrella.org
SUMMARY:BODA MAÑANA
DESCRIPTION:
URL:https://hermandad-estrella.org/evento/boda-manana-9/
CATEGORIES:Bodas y comuniones
END:VEVENT
BEGIN:VEVENT
DTSTART;TZID=Europe/Madrid:20231126T130000
DTEND;TZID=Europe/Madrid:20231126T140000
DTSTAMP:20260420T172444
CREATED:20231112T213238Z
LAST-MODIFIED:20231112T213238Z
UID:30474-1701003600-1701007200@hermandad-estrella.org
SUMMARY:SOLEMNIDAD DE CRISTO REY
DESCRIPTION:Función solemne a Nuestro Padre Jesús de las Penas por la solemnidad de Jesucristo\, Rey del Universo. \nPreside nuestro Director espiritual\, Fray Francisco Javier Rodríguez Sánchez O.P.
URL:https://hermandad-estrella.org/evento/solemnidad-de-cristo-rey/
LOCATION:Capilla Virgen de la Estrella\, San Jacinto\, 41\, Sevilla\, 41010\, España
CATEGORIES:Cultos,Eventos
END:VEVENT
BEGIN:VEVENT
DTSTART;TZID=Europe/Madrid:20231126T140000
DTEND;TZID=Europe/Madrid:20231126T143000
DTSTAMP:20260420T172444
CREATED:20231112T213405Z
LAST-MODIFIED:20231112T213405Z
UID:30476-1701007200-1701009000@hermandad-estrella.org
SUMMARY:CONCIERTO POR CRISTO REY
DESCRIPTION:La Agrupación Musical Santísimo Cristo de la Piedad\, de Miguelturra (Ciudad Real) será la encargada de ofrecer este año el tradicional concierto de marchas procesionales que nuestra Hermandad organiza con motivo de la solemnidad de Cristo Rey. \nEl concierto tendrá lugar el próximo26 de noviembre\, tras la Función Solemne en honor a Nuestro Padre Jesús de las Penas.
URL:https://hermandad-estrella.org/evento/concierto-por-cristo-rey/
LOCATION:Capilla Virgen de la Estrella\, San Jacinto\, 41\, Sevilla\, 41010\, España
CATEGORIES:Eventos
END:VEVENT
BEGIN:VEVENT
DTSTART;TZID=Europe/Madrid:20231201T190000
DTEND;TZID=Europe/Madrid:20231201T210000
DTSTAMP:20260420T172444
CREATED:20231116T205640Z
LAST-MODIFIED:20231116T205640Z
UID:30495-1701457200-1701464400@hermandad-estrella.org
SUMMARY:Jura de Reglas
DESCRIPTION:La Jura de Reglas tendrá lugar a las 20 horas\, si bien los hermanos deberán encontrarse a las 19.15 horas en el Salón de actos de la Casa-Hermandad. \nSerá imprescindible confirmar la asistencia antes del martes 28 de noviembre\, llamando al 954332186 o enviando un correo electrónico a secretaria@hermandad-estrella.org. Para una mejor organización del acto\, sólo podrán realizar el juramento aquellos hermanos que reciban la confirmación por parte de la Hermandad. \n 
URL:https://hermandad-estrella.org/evento/jura-de-reglas-01-12-23/
LOCATION:Casa-Hermandad\, Nuestro Padre Jesús de las Penas\, Sevilla\, Sevilla\, 41010\, España
CATEGORIES:Eventos
END:VEVENT
BEGIN:VEVENT
DTSTART;TZID=Europe/Madrid:20231202T113000
DTEND;TZID=Europe/Madrid:20231202T123000
DTSTAMP:20260420T172444
CREATED:20230719T183833Z
LAST-MODIFIED:20230905T171746Z
UID:28484-1701516600-1701520200@hermandad-estrella.org
SUMMARY:EUCARISTÍA TRASPLANTADOS DE CORAZÓN
DESCRIPTION:
URL:https://hermandad-estrella.org/evento/eucaristia-transplantados-de-corazon/
LOCATION:Capilla Virgen de la Estrella\, San Jacinto\, 41\, Sevilla\, 41010\, España
CATEGORIES:Eventos
END:VEVENT
BEGIN:VEVENT
DTSTART;TZID=Europe/Madrid:20231203T110000
DTEND;TZID=Europe/Madrid:20231203T120000
DTSTAMP:20260420T172444
CREATED:20231129T161915Z
LAST-MODIFIED:20231129T161915Z
UID:30583-1701601200-1701604800@hermandad-estrella.org
SUMMARY:MISA DE NIÑOS
DESCRIPTION:
URL:https://hermandad-estrella.org/evento/misa-de-ninos/
LOCATION:Capilla Virgen de la Estrella\, San Jacinto\, 41\, Sevilla\, 41010\, España
CATEGORIES:Cultos,Eventos
END:VEVENT
BEGIN:VEVENT
DTSTART;TZID=Europe/Madrid:20231203T130000
DTEND;TZID=Europe/Madrid:20231203T140000
DTSTAMP:20260420T172444
CREATED:20231129T161056Z
LAST-MODIFIED:20231129T161837Z
UID:30571-1701608400-1701612000@hermandad-estrella.org
SUMMARY:MISA DE HERMANDAD
DESCRIPTION:Preside nuestro Director Espiritual\, fray Francisco Javier Rodríguez Sánchez\, OP.
URL:https://hermandad-estrella.org/evento/misa-de-hermandad-8/
LOCATION:Capilla Virgen de la Estrella\, San Jacinto\, 41\, Sevilla\, 41010\, España
CATEGORIES:Cultos,Eventos
END:VEVENT
BEGIN:VEVENT
DTSTART;TZID=Europe/Madrid:20231208T130000
DTEND;TZID=Europe/Madrid:20231208T140000
DTSTAMP:20260420T172444
CREATED:20231129T162038Z
LAST-MODIFIED:20231129T162038Z
UID:30586-1702040400-1702044000@hermandad-estrella.org
SUMMARY:INMACULADA CONCEPCIÓN
DESCRIPTION:Celebración de la Eucaristía en la Solemnidad de la Inmaculada Concepción
URL:https://hermandad-estrella.org/evento/inmaculada-concepcion/
LOCATION:Capilla Virgen de la Estrella\, San Jacinto\, 41\, Sevilla\, 41010\, España
CATEGORIES:Cultos,Eventos
END:VEVENT
BEGIN:VEVENT
DTSTART;TZID=Europe/Madrid:20231210T130000
DTEND;TZID=Europe/Madrid:20231210T140000
DTSTAMP:20260420T172444
CREATED:20231227T204934Z
LAST-MODIFIED:20231227T204934Z
UID:30789-1702213200-1702216800@hermandad-estrella.org
SUMMARY:Misa de Hermandad
DESCRIPTION:
URL:https://hermandad-estrella.org/evento/misa-de-hermandad-9/
LOCATION:Capilla Virgen de la Estrella\, San Jacinto\, 41\, Sevilla\, 41010\, España
CATEGORIES:Cultos,Eventos
END:VEVENT
BEGIN:VEVENT
DTSTART;TZID=Europe/Madrid:20231225T130000
DTEND;TZID=Europe/Madrid:20231225T140000
DTSTAMP:20260420T172444
CREATED:20231227T205020Z
LAST-MODIFIED:20231227T205020Z
UID:30791-1703509200-1703512800@hermandad-estrella.org
SUMMARY:Eucaristía Solemnidad de la Natividad del Señor
DESCRIPTION:
URL:https://hermandad-estrella.org/evento/eucaristia-solemnidad-de-la-natividad-del-senor/
LOCATION:Capilla Virgen de la Estrella\, San Jacinto\, 41\, Sevilla\, 41010\, España
CATEGORIES:Cultos,Eventos
END:VEVENT
BEGIN:VEVENT
DTSTART;TZID=Europe/Madrid:20231227T090000
DTEND;TZID=Europe/Madrid:20231227T110000
DTSTAMP:20260420T172444
CREATED:20231220T212214Z
LAST-MODIFIED:20231220T212214Z
UID:30717-1703667600-1703674800@hermandad-estrella.org
SUMMARY:Jornadas Culturales Grupo Joven
DESCRIPTION:Torneo de fútbol de colectivos de la Hermandad. \nDonativo 3 euros. \nContactar en el correo grupojoven@hermandad-estrella.org
URL:https://hermandad-estrella.org/evento/jornadas-culturales-grupo-joven/
LOCATION:Pistas deportivas Salesianos Triana
CATEGORIES:Eventos
END:VEVENT
BEGIN:VEVENT
DTSTART;TZID=Europe/Madrid:20240101T130000
DTEND;TZID=Europe/Madrid:20240101T140000
DTSTAMP:20260420T172444
CREATED:20231227T205055Z
LAST-MODIFIED:20231227T205055Z
UID:30793-1704114000-1704117600@hermandad-estrella.org
SUMMARY:Eucaristía Solemnidad Santa María\, Madre de Dios
DESCRIPTION:
URL:https://hermandad-estrella.org/evento/eucaristia-solemnidad-santa-maria-madre-de-dios/
LOCATION:Capilla Virgen de la Estrella\, San Jacinto\, 41\, Sevilla\, 41010\, España
CATEGORIES:Cultos,Eventos
END:VEVENT
BEGIN:VEVENT
DTSTART;TZID=Europe/Madrid:20240102T200000
DTEND;TZID=Europe/Madrid:20240102T210000
DTSTAMP:20260420T172445
CREATED:20231227T205207Z
LAST-MODIFIED:20231227T205207Z
UID:30795-1704225600-1704229200@hermandad-estrella.org
SUMMARY:Coronación Estrella de la Ilusión Ateneo de Sevilla
DESCRIPTION:Eucaristía presidida por nuestro director espiritual\, Fray Francisco Javier Rodríguez\, OP.
URL:https://hermandad-estrella.org/evento/coronacion-estrella-de-la-ilusion-ateneo-de-sevilla/
LOCATION:Capilla Virgen de la Estrella\, San Jacinto\, 41\, Sevilla\, 41010\, España
CATEGORIES:Cultos,Eventos
END:VEVENT
BEGIN:VEVENT
DTSTART;TZID=Europe/Madrid:20240104T180000
DTEND;TZID=Europe/Madrid:20240104T200000
DTSTAMP:20260420T172445
CREATED:20240104T101601Z
LAST-MODIFIED:20240104T102059Z
UID:30817-1704391200-1704398400@hermandad-estrella.org
SUMMARY:JUEVES SACRAMENTAL
DESCRIPTION:Exposición del Santísimo Sacramento.
URL:https://hermandad-estrella.org/evento/jueves-sacramental-2/
LOCATION:Capilla Virgen de la Estrella\, San Jacinto\, 41\, Sevilla\, 41010\, España
CATEGORIES:Cultos,Eventos
END:VEVENT
BEGIN:VEVENT
DTSTART;TZID=Europe/Madrid:20240106T110000
DTEND;TZID=Europe/Madrid:20240106T130000
DTSTAMP:20260420T172445
CREATED:20240104T102012Z
LAST-MODIFIED:20240104T102033Z
UID:30829-1704538800-1704546000@hermandad-estrella.org
SUMMARY:MISA EPIFANÍA DEL SEÑOR- REYES MAGOS BOLSA CARIDAD
DESCRIPTION:Eucaristía de la Solemnidad de la Epifanía del Señor. \nA su término\, los Reyes Magos entregarán sus presentes a los niños de las familias beneficiarias de la Bolsa de Caridad de la Hermandad.
URL:https://hermandad-estrella.org/evento/misa-epifania-del-senor-reyes-magos-bolsa-de-caridad/
CATEGORIES:Cultos,Eventos
END:VEVENT
BEGIN:VEVENT
DTSTART;TZID=Europe/Madrid:20240107T130000
DTEND;TZID=Europe/Madrid:20240107T140000
DTSTAMP:20260420T172445
CREATED:20240104T101807Z
LAST-MODIFIED:20240104T102138Z
UID:30820-1704632400-1704636000@hermandad-estrella.org
SUMMARY:MISA DE HERMANDAD
DESCRIPTION:Preside nuestro Director Espiritual\, fray Francisco Javier Rodríguez Sánchez
URL:https://hermandad-estrella.org/evento/misa-de-hermandad-10/2024-01-07/
LOCATION:Capilla Virgen de la Estrella\, San Jacinto\, 41\, Sevilla\, 41010\, España
CATEGORIES:Cultos,Eventos
END:VEVENT
BEGIN:VEVENT
DTSTART;TZID=Europe/Madrid:20240114T140000
DTEND;TZID=Europe/Madrid:20240114T160000
DTSTAMP:20260420T172445
CREATED:20231004T190352Z
LAST-MODIFIED:20231004T190352Z
UID:30209-1705240800-1705248000@hermandad-estrella.org
SUMMARY:IGUALÁ COSTALEROS CRISTO
DESCRIPTION:Tras la Misa de Hermandad.
URL:https://hermandad-estrella.org/evento/iguala-costaleros-cristo/
LOCATION:Casa-Hermandad\, Nuestro Padre Jesús de las Penas\, Sevilla\, Sevilla\, 41010\, España
CATEGORIES:Eventos
END:VEVENT
BEGIN:VEVENT
DTSTART;TZID=Europe/Madrid:20240118T203000
DTEND;TZID=Europe/Madrid:20240118T213000
DTSTAMP:20260420T172445
CREATED:20240117T215629Z
LAST-MODIFIED:20240117T215637Z
UID:31054-1705609800-1705613400@hermandad-estrella.org
SUMMARY:PRESENTACIÓN CARTEL TERTULIA ÚLTIMO TRAMO
DESCRIPTION:Tras la Misa vespertina de 20 h.
URL:https://hermandad-estrella.org/evento/presentacion-cartel-tertulia-ultimo-tramo/
LOCATION:Capilla Virgen de la Estrella\, San Jacinto\, 41\, Sevilla\, 41010\, España
CATEGORIES:Eventos
END:VEVENT
END:VCALENDAR