BEGIN:VCALENDAR
VERSION:2.0
PRODID:-//Hermandad de la Estrella - ECPv6.6.4.2//NONSGML v1.0//EN
CALSCALE:GREGORIAN
METHOD:PUBLISH
X-WR-CALNAME:Hermandad de la Estrella
X-ORIGINAL-URL:https://hermandad-estrella.org
X-WR-CALDESC:Eventos para Hermandad de la Estrella
REFRESH-INTERVAL;VALUE=DURATION:PT1H
X-Robots-Tag:noindex
X-PUBLISHED-TTL:PT1H
BEGIN:VTIMEZONE
TZID:Europe/Madrid
BEGIN:DAYLIGHT
TZOFFSETFROM:+0100
TZOFFSETTO:+0200
TZNAME:CEST
DTSTART:20230326T010000
END:DAYLIGHT
BEGIN:STANDARD
TZOFFSETFROM:+0200
TZOFFSETTO:+0100
TZNAME:CET
DTSTART:20231029T010000
END:STANDARD
END:VTIMEZONE
BEGIN:VEVENT
DTSTART;TZID=Europe/Madrid:20230706T180000
DTEND;TZID=Europe/Madrid:20230706T200000
DTSTAMP:20260420T134433
CREATED:20230706T132246Z
LAST-MODIFIED:20230706T132547Z
UID:24636-1688666400-1688673600@hermandad-estrella.org
SUMMARY:Jueves eucarístico
DESCRIPTION:Exposición del Santísimo. \nA las 20h\, celebración de la Eucaristía.
URL:https://hermandad-estrella.org/evento/jueves-eucaristico-2/
LOCATION:Capilla Virgen de la Estrella\, San Jacinto\, 41\, Sevilla\, 41010\, España
CATEGORIES:Cultos,Eventos
END:VEVENT
BEGIN:VEVENT
DTSTART;TZID=Europe/Madrid:20230717T203000
DTEND;TZID=Europe/Madrid:20230717T203000
DTSTAMP:20260420T134433
CREATED:20221018T104809Z
LAST-MODIFIED:20230204T204947Z
UID:12558-1689625800-1689625800@hermandad-estrella.org
SUMMARY:FESTIVIDAD DE SANTAS JUSTA Y RUFINA
DESCRIPTION:
URL:https://hermandad-estrella.org/evento/festividad-de-santas-justa-y-rufina/
CATEGORIES:Cultos,Eventos
END:VEVENT
BEGIN:VEVENT
DTSTART;TZID=Europe/Madrid:20230729T200000
DTEND;TZID=Europe/Madrid:20230729T200000
DTSTAMP:20260420T134433
CREATED:20230123T220334Z
LAST-MODIFIED:20230123T220334Z
UID:22510-1690660800-1690660800@hermandad-estrella.org
SUMMARY:BODA TARDE
DESCRIPTION:
URL:https://hermandad-estrella.org/evento/boda-tarde-3/
CATEGORIES:Bodas y comuniones
END:VEVENT
BEGIN:VEVENT
DTSTART;TZID=Europe/Madrid:20230903T130000
DTEND;TZID=Europe/Madrid:20230903T134500
DTSTAMP:20260420T134433
CREATED:20230905T170756Z
LAST-MODIFIED:20230905T171839Z
UID:29990-1693746000-1693748700@hermandad-estrella.org
SUMMARY:MISA DE HERMANDAD
DESCRIPTION:
URL:https://hermandad-estrella.org/evento/misa-de-hermandad-6/2023-09-03/
LOCATION:Capilla Virgen de la Estrella\, San Jacinto\, 41\, Sevilla\, 41010\, España
CATEGORIES:Cultos,Eventos
END:VEVENT
BEGIN:VEVENT
DTSTART;TZID=Europe/Madrid:20230907T180000
DTEND;TZID=Europe/Madrid:20230907T195000
DTSTAMP:20260420T134433
CREATED:20230905T171507Z
LAST-MODIFIED:20230905T171648Z
UID:29999-1694109600-1694116200@hermandad-estrella.org
SUMMARY:JUEVES EUCARÍSTICO
DESCRIPTION:Exposición del Santísimo.
URL:https://hermandad-estrella.org/evento/jueves-eucaristico-3/2023-09-07/
LOCATION:Capilla Virgen de la Estrella\, San Jacinto\, 41\, Sevilla\, 41010\, España
CATEGORIES:Cultos,Eventos
END:VEVENT
BEGIN:VEVENT
DTSTART;TZID=Europe/Madrid:20230913T203000
DTEND;TZID=Europe/Madrid:20230913T213000
DTSTAMP:20260420T134433
CREATED:20230912T094819Z
LAST-MODIFIED:20230912T095924Z
UID:30047-1694637000-1694640600@hermandad-estrella.org
SUMMARY:REUNIÓN ACÓLITOS
DESCRIPTION:Dirigida a hermanos de más de 14 años que quieran pertenecer al grupo de acólitos de la hermandad.\n\n\nMás información en el correo cultos@hermandad-estrella.org
URL:https://hermandad-estrella.org/evento/reunion-acolitos-12-09-23/
LOCATION:Casa-Hermandad\, Nuestro Padre Jesús de las Penas\, Sevilla\, Sevilla\, 41010\, España
CATEGORIES:Eventos
END:VEVENT
BEGIN:VEVENT
DTSTART;TZID=Europe/Madrid:20230914T200000
DTEND;TZID=Europe/Madrid:20230914T220000
DTSTAMP:20260420T134433
CREATED:20230905T170304Z
LAST-MODIFIED:20230905T171939Z
UID:29984-1694721600-1694728800@hermandad-estrella.org
SUMMARY:FIESTA DE LA EXALTACIÓN DE LA SANTA CRUZ-INICIO DE CURSO
DESCRIPTION:Función Solemne con motivo de la Exaltación de la Santa Cruz. A las 20 h\, rezo del Rosario. A las 20.30 h\, Eucaristía. \nPreside nuestro director espiritual\, Fray Francisco Javier Rodríguez\, OP.
URL:https://hermandad-estrella.org/evento/fiesta-de-la-exaltacion-de-la-santa-cruz-inicio-de-curso/
LOCATION:Capilla Virgen de la Estrella\, San Jacinto\, 41\, Sevilla\, 41010\, España
CATEGORIES:Cultos,Eventos
END:VEVENT
BEGIN:VEVENT
DTSTART;TZID=Europe/Madrid:20230915T200000
DTEND;TZID=Europe/Madrid:20230915T210000
DTSTAMP:20260420T134433
CREATED:20230905T170528Z
LAST-MODIFIED:20230905T171957Z
UID:29988-1694808000-1694811600@hermandad-estrella.org
SUMMARY:REUNIÓN DE INICIO DE CURSO- GRUPO JOVEN
DESCRIPTION:
URL:https://hermandad-estrella.org/evento/reunion-de-inicio-de-curso-grupo-joven/
LOCATION:Casa-Hermandad\, Nuestro Padre Jesús de las Penas\, Sevilla\, Sevilla\, 41010\, España
CATEGORIES:Eventos
END:VEVENT
BEGIN:VEVENT
DTSTART;TZID=Europe/Madrid:20230922T170000
DTEND;TZID=Europe/Madrid:20230924T170000
DTSTAMP:20260420T134433
CREATED:20230905T170422Z
LAST-MODIFIED:20230905T172038Z
UID:29986-1695402000-1695574800@hermandad-estrella.org
SUMMARY:CAMPAMENTO INFANTIL
DESCRIPTION:En la casa- hermandad del Rocío de Gines (Aldea del Rocío).
URL:https://hermandad-estrella.org/evento/campamento-infantil/
CATEGORIES:Eventos
END:VEVENT
BEGIN:VEVENT
DTSTART;TZID=Europe/Madrid:20230923T120000
DTEND;TZID=Europe/Madrid:20230923T120000
DTSTAMP:20260420T134433
CREATED:20230530T181013Z
LAST-MODIFIED:20230530T181013Z
UID:23138-1695470400-1695470400@hermandad-estrella.org
SUMMARY:COMUNION 12:00H
DESCRIPTION:
URL:https://hermandad-estrella.org/evento/comunion-1200h/
CATEGORIES:Bodas y comuniones
END:VEVENT
BEGIN:VEVENT
DTSTART;TZID=Europe/Madrid:20230927T203000
DTEND;TZID=Europe/Madrid:20230927T213000
DTSTAMP:20260420T134433
CREATED:20230925T163423Z
LAST-MODIFIED:20230925T163610Z
UID:30171-1695846600-1695850200@hermandad-estrella.org
SUMMARY:PRESENTACIÓN INTERVENCIÓN VIRGEN DE LA CANDELARIA
DESCRIPTION:La Hermandad de la Estrella colabora en el proyecto de intervención en la Virgen de la Candelaria de San Jacinto
URL:https://hermandad-estrella.org/evento/presentacion-intervencion-virgen-de-la-candelaria/
CATEGORIES:Eventos
END:VEVENT
BEGIN:VEVENT
DTSTART;TZID=Europe/Madrid:20231005T130000
DTEND;TZID=Europe/Madrid:20231005T140000
DTSTAMP:20260420T134433
CREATED:20231005T194005Z
LAST-MODIFIED:20231005T194005Z
UID:30219-1696510800-1696514400@hermandad-estrella.org
SUMMARY:BODA (MAÑANA)
DESCRIPTION:
URL:https://hermandad-estrella.org/evento/boda-manana-14/
LOCATION:Capilla Virgen de la Estrella\, San Jacinto\, 41\, Sevilla\, 41010\, España
CATEGORIES:Bodas y comuniones
END:VEVENT
BEGIN:VEVENT
DTSTART;TZID=Europe/Madrid:20231006T183000
DTEND;TZID=Europe/Madrid:20231006T200000
DTSTAMP:20260420T134433
CREATED:20230925T162809Z
LAST-MODIFIED:20230925T162809Z
UID:30167-1696617000-1696622400@hermandad-estrella.org
SUMMARY:JURA DE REGLAS
DESCRIPTION:
URL:https://hermandad-estrella.org/evento/jura-de-reglas-2/2023-10-06/
LOCATION:Capilla Virgen de la Estrella\, San Jacinto\, 41\, Sevilla\, 41010\, España
CATEGORIES:Eventos
END:VEVENT
BEGIN:VEVENT
DTSTART;VALUE=DATE:20231007
DTEND;VALUE=DATE:20231008
DTSTAMP:20260420T134433
CREATED:20221103T112308Z
LAST-MODIFIED:20221103T112317Z
UID:14672-1696636800-1696723199@hermandad-estrella.org
SUMMARY:Boda ( Mañana )
DESCRIPTION:
URL:https://hermandad-estrella.org/evento/boda-manana/
CATEGORIES:Bodas y comuniones
END:VEVENT
BEGIN:VEVENT
DTSTART;TZID=Europe/Madrid:20231007T130000
DTEND;TZID=Europe/Madrid:20231007T130000
DTSTAMP:20260420T134433
CREATED:20230123T220425Z
LAST-MODIFIED:20230123T220425Z
UID:22512-1696683600-1696683600@hermandad-estrella.org
SUMMARY:BODA MAÑANA
DESCRIPTION:
URL:https://hermandad-estrella.org/evento/boda-manana-5/
CATEGORIES:Bodas y comuniones
END:VEVENT
BEGIN:VEVENT
DTSTART;TZID=Europe/Madrid:20231008T120000
DTEND;TZID=Europe/Madrid:20231008T130000
DTSTAMP:20260420T134433
CREATED:20231006T123428Z
LAST-MODIFIED:20231006T123428Z
UID:30227-1696766400-1696770000@hermandad-estrella.org
SUMMARY:REUNIÓN PEREGRINACIÓN TIERRA SANTA
DESCRIPTION:
URL:https://hermandad-estrella.org/evento/reunion-peregrinacion-tierra-santa/
LOCATION:Casa-Hermandad\, Nuestro Padre Jesús de las Penas\, Sevilla\, Sevilla\, 41010\, España
CATEGORIES:Eventos
END:VEVENT
BEGIN:VEVENT
DTSTART;TZID=Europe/Madrid:20231010T200000
DTEND;TZID=Europe/Madrid:20231010T213000
DTSTAMP:20260420T134433
CREATED:20231004T194758Z
LAST-MODIFIED:20231004T194855Z
UID:30213-1696968000-1696973400@hermandad-estrella.org
SUMMARY:FUNERAL PADRE EMILIO\, O.P.
DESCRIPTION:Eucaristía por el alma de fray Emilio García\, OP\, prior del convento de Santo Tomás de Sevilla.
URL:https://hermandad-estrella.org/evento/funeral-padre-emilio-o-p/
LOCATION:Parroquia de San Jacinto\, Calle Pagés del Corro\, 88\, Sevilla\, Sevilla\, 41010\, España
CATEGORIES:Eventos
END:VEVENT
BEGIN:VEVENT
DTSTART;TZID=Europe/Madrid:20231010T210000
DTEND;TZID=Europe/Madrid:20231010T210000
DTSTAMP:20260420T134433
CREATED:20231010T083915Z
LAST-MODIFIED:20231010T083915Z
UID:30258-1696971600-1696971600@hermandad-estrella.org
SUMMARY:CICLO FORMACIÓN HERMANDADES TRIANA- LOS REMEDIOS
DESCRIPTION:‘La importancia de la Jornada Mundial de la Juventud en la Iglesia y su evolución’\, a cargo de Antonio Rodríguez Babío\, canónigo y capellán Real de la Catedral de Sevilla y delegado diocesano de Patrimonio Cultural. \nEn la Parroquia de Ntra. Sra. del Buen Aire\, sede de la Hermandad de Pasión y Muerte. \n  \n 
URL:https://hermandad-estrella.org/evento/ciclo-formacion-hermandades-triana-los-remedios/
CATEGORIES:Eventos
END:VEVENT
BEGIN:VEVENT
DTSTART;TZID=Europe/Madrid:20231012T113000
DTEND;TZID=Europe/Madrid:20231012T130000
DTSTAMP:20260420T134433
CREATED:20231005T193935Z
LAST-MODIFIED:20231005T193935Z
UID:30217-1697110200-1697115600@hermandad-estrella.org
SUMMARY:BODA (MAÑANA)
DESCRIPTION:
URL:https://hermandad-estrella.org/evento/boda-manana-13/
LOCATION:Capilla Virgen de la Estrella\, San Jacinto\, 41\, Sevilla\, 41010\, España
CATEGORIES:Bodas y comuniones
END:VEVENT
BEGIN:VEVENT
DTSTART;TZID=Europe/Madrid:20231017T210000
DTEND;TZID=Europe/Madrid:20231017T220000
DTSTAMP:20260420T134433
CREATED:20231010T084100Z
LAST-MODIFIED:20231010T084100Z
UID:30260-1697576400-1697580000@hermandad-estrella.org
SUMMARY:CICLO FORMACIÓN HERMANDADES TRIANA- LOS REMEDIOS
DESCRIPTION:‘El Matrimonio como Dios lo pensó’\, por José María González-Alorda Iriarte y  Dolores Bernal Méndez\, coordinadores del Proyecto Amor Conyugal. En la Basílica del Santísimo Cristo de la Expiración\, sede de la Hermandad del Cachorro.
URL:https://hermandad-estrella.org/evento/ciclo-formacion-hermandades-triana-los-remedios-2/
CATEGORIES:Eventos
END:VEVENT
BEGIN:VEVENT
DTSTART;TZID=Europe/Madrid:20231022T130000
DTEND;TZID=Europe/Madrid:20231022T140000
DTSTAMP:20260420T134433
CREATED:20231010T084615Z
LAST-MODIFIED:20231010T084845Z
UID:30266-1697979600-1697983200@hermandad-estrella.org
SUMMARY:FUNCIÓN SOLEMNE POR LA FIESTA DE SAN JUAN PABLO II
DESCRIPTION:Función Solemne con motivo de la fiesta de San Juan Pablo II. \nPreside nuestro director espiritual\, Fray Francisco Javier Rodríguez\, OP.
URL:https://hermandad-estrella.org/evento/funcion-solemne-por-la-fiesta-de-san-juan-pablo-ii/
LOCATION:Capilla Virgen de la Estrella\, San Jacinto\, 41\, Sevilla\, 41010\, España
CATEGORIES:Cultos,Eventos
END:VEVENT
BEGIN:VEVENT
DTSTART;TZID=Europe/Madrid:20231024T210000
DTEND;TZID=Europe/Madrid:20231024T220000
DTSTAMP:20260420T134433
CREATED:20231010T084225Z
LAST-MODIFIED:20231010T084225Z
UID:30262-1698181200-1698184800@hermandad-estrella.org
SUMMARY:CICLO FORMACIÓN HERMANDADES TRIANA- LOS REMEDIOS
DESCRIPTION:‘El aborto: una interrupción voluntaria que destruye dos vidas’\, a cargo de Consuelo Núñez Correas\, secretaria del Centro de Orientación Familiar de Triana-Los Remedios. En la capilla de la Fábrica de Tabacos de Sevilla\, sede de la Hermandad de las Cigarreras.
URL:https://hermandad-estrella.org/evento/ciclo-formacion-hermandades-triana-los-remedios-3/
CATEGORIES:Eventos
END:VEVENT
BEGIN:VEVENT
DTSTART;VALUE=DATE:20231028
DTEND;VALUE=DATE:20231029
DTSTAMP:20260420T134433
CREATED:20221103T112519Z
LAST-MODIFIED:20221103T112526Z
UID:14674-1698451200-1698537599@hermandad-estrella.org
SUMMARY:Boda ( Mañana )
DESCRIPTION:
URL:https://hermandad-estrella.org/evento/boda-manana-2/
CATEGORIES:Bodas y comuniones
END:VEVENT
BEGIN:VEVENT
DTSTART;TZID=Europe/Madrid:20231029T120000
DTEND;TZID=Europe/Madrid:20231029T124000
DTSTAMP:20260420T134433
CREATED:20231025T163821Z
LAST-MODIFIED:20231025T163821Z
UID:30313-1698580800-1698583200@hermandad-estrella.org
SUMMARY:Presentación logo y actos 25 aniversario
DESCRIPTION:
URL:https://hermandad-estrella.org/evento/presentacion-logo-y-actos-25-aniversario/
CATEGORIES:Eventos
END:VEVENT
BEGIN:VEVENT
DTSTART;TZID=Europe/Madrid:20231029T130000
DTEND;TZID=Europe/Madrid:20231029T140000
DTSTAMP:20260420T134434
CREATED:20231010T084711Z
LAST-MODIFIED:20231010T084742Z
UID:30268-1698584400-1698588000@hermandad-estrella.org
SUMMARY:MISA DE HERMANDAD
DESCRIPTION:
URL:https://hermandad-estrella.org/evento/misa-de-hermandad-7/2023-10-29/
LOCATION:Capilla Virgen de la Estrella\, San Jacinto\, 41\, Sevilla\, 41010\, España
CATEGORIES:Cultos,Eventos
END:VEVENT
BEGIN:VEVENT
DTSTART;TZID=Europe/Madrid:20231031T200000
DTEND;TZID=Europe/Madrid:20231031T220000
DTSTAMP:20260420T134434
CREATED:20230905T172256Z
LAST-MODIFIED:20231030T140655Z
UID:30016-1698782400-1698789600@hermandad-estrella.org
SUMMARY:XIV ANIVERSARIO CORONACIÓN
DESCRIPTION:A las 20h\, rezo del Santo Rosario. A las 20.30h \, Eucaristía. \nPreside el Rvdo. P. D. Francisco Miguel Valencia Bando\, Vicario Episcopal del Condado de Huelva y rector del Santuario de Ntra. Sra. del Rocío.
URL:https://hermandad-estrella.org/evento/xiv-aniversario-coronacion/
CATEGORIES:Cultos,Eventos
END:VEVENT
BEGIN:VEVENT
DTSTART;TZID=Europe/Madrid:20231031T220000
DTEND;TZID=Europe/Madrid:20231031T235500
DTSTAMP:20260420T134434
CREATED:20231010T085000Z
LAST-MODIFIED:20231010T085000Z
UID:30277-1698789600-1698796500@hermandad-estrella.org
SUMMARY:CÓCTEL-CELEBRACIÓN ANIVERSARIO CORONACIÓN
DESCRIPTION:Invitaciones en Mayordomía (40 euros) hasta el 27 de octubre.
URL:https://hermandad-estrella.org/evento/coctel-celebracion-aniversario-coronacion/
LOCATION:Alfarería 21 (Casa Montalván)\, Alfarería\, 21\, Sevilla\, Sevilla\, 41010\, España
CATEGORIES:Eventos
END:VEVENT
BEGIN:VEVENT
DTSTART;TZID=Europe/Madrid:20231104T120000
DTEND;TZID=Europe/Madrid:20231104T120000
DTSTAMP:20260420T134434
CREATED:20230510T182839Z
LAST-MODIFIED:20230510T182839Z
UID:23100-1699099200-1699099200@hermandad-estrella.org
SUMMARY:BODA MAÑANA
DESCRIPTION:
URL:https://hermandad-estrella.org/evento/boda-manana-8/
CATEGORIES:Bodas y comuniones
END:VEVENT
BEGIN:VEVENT
DTSTART;TZID=Europe/Madrid:20231107T210000
DTEND;TZID=Europe/Madrid:20231107T220000
DTSTAMP:20260420T134434
CREATED:20231010T084317Z
LAST-MODIFIED:20231010T084317Z
UID:30264-1699390800-1699394400@hermandad-estrella.org
SUMMARY:CICLO FORMACIÓN HERMANDADES TRIANA- LOS REMEDIOS
DESCRIPTION:Mesa Redonda: ‘Las vivencias y el día de después de las Jornadas Mundiales de la Juventud’. Participan Fray Engelbert Desirée Mbarga\, O.M.; hermana del Instituto Catequista Dolores Sopeña; miembro del Grupo Joven de la Hermandad de la Estrella y miembro de la Juventud de la Parroquia de la Blanca Paloma y Ntra. Sra. de la Candelaria.
URL:https://hermandad-estrella.org/evento/ciclo-formacion-hermandades-triana-los-remedios-4/
LOCATION:Capilla Virgen de la Estrella\, San Jacinto\, 41\, Sevilla\, 41010\, España
CATEGORIES:Eventos
END:VEVENT
BEGIN:VEVENT
DTSTART;TZID=Europe/Madrid:20231116T200000
DTEND;TZID=Europe/Madrid:20231116T210000
DTSTAMP:20260420T134434
CREATED:20231112T204207Z
LAST-MODIFIED:20231112T204627Z
UID:30443-1700164800-1700168400@hermandad-estrella.org
SUMMARY:MISA DE RÉQUIEM
DESCRIPTION:
URL:https://hermandad-estrella.org/evento/misa-de-requiem/
LOCATION:Capilla Virgen de la Estrella\, San Jacinto\, 41\, Sevilla\, 41010\, España
CATEGORIES:Cultos,Eventos
END:VEVENT
END:VCALENDAR