BEGIN:VCALENDAR
VERSION:2.0
PRODID:-//Hermandad de la Estrella - ECPv6.6.4.2//NONSGML v1.0//EN
CALSCALE:GREGORIAN
METHOD:PUBLISH
X-WR-CALNAME:Hermandad de la Estrella
X-ORIGINAL-URL:https://hermandad-estrella.org
X-WR-CALDESC:Eventos para Hermandad de la Estrella
REFRESH-INTERVAL;VALUE=DURATION:PT1H
X-Robots-Tag:noindex
X-PUBLISHED-TTL:PT1H
BEGIN:VTIMEZONE
TZID:Europe/Madrid
BEGIN:DAYLIGHT
TZOFFSETFROM:+0100
TZOFFSETTO:+0200
TZNAME:CEST
DTSTART:20240331T010000
END:DAYLIGHT
BEGIN:STANDARD
TZOFFSETFROM:+0200
TZOFFSETTO:+0100
TZNAME:CET
DTSTART:20241027T010000
END:STANDARD
END:VTIMEZONE
BEGIN:VEVENT
DTSTART;TZID=Europe/Madrid:20241014T200000
DTEND;TZID=Europe/Madrid:20241018T220000
DTSTAMP:20260420T161541
CREATED:20241016T184446Z
LAST-MODIFIED:20241016T184446Z
UID:34431-1728936000-1729288800@hermandad-estrella.org
SUMMARY:Reparto presencial de las papeletas de sitio extraordinarias
DESCRIPTION:En  la Casa-Hermandad
URL:https://hermandad-estrella.org/evento/reparto-presencial-de-las-papeletas-de-sitio-extraordinarias/
CATEGORIES:Eventos
END:VEVENT
END:VCALENDAR