BEGIN:VCALENDAR
VERSION:2.0
PRODID:-//Hermandad de la Estrella - ECPv6.6.4.2//NONSGML v1.0//EN
CALSCALE:GREGORIAN
METHOD:PUBLISH
X-ORIGINAL-URL:https://hermandad-estrella.org
X-WR-CALDESC:Eventos para Hermandad de la Estrella
REFRESH-INTERVAL;VALUE=DURATION:PT1H
X-Robots-Tag:noindex
X-PUBLISHED-TTL:PT1H
BEGIN:VTIMEZONE
TZID:Europe/Madrid
BEGIN:DAYLIGHT
TZOFFSETFROM:+0100
TZOFFSETTO:+0200
TZNAME:CEST
DTSTART:20240331T010000
END:DAYLIGHT
BEGIN:STANDARD
TZOFFSETFROM:+0200
TZOFFSETTO:+0100
TZNAME:CET
DTSTART:20241027T010000
END:STANDARD
END:VTIMEZONE
BEGIN:VEVENT
DTSTART;TZID=Europe/Madrid:20241013T130000
DTEND;TZID=Europe/Madrid:20241013T140000
DTSTAMP:20260420T123132
CREATED:20240802T165329Z
LAST-MODIFIED:20240802T165329Z
UID:33948-1728824400-1728828000@hermandad-estrella.org
SUMMARY:MISA DE HERMANDAD
DESCRIPTION:
URL:https://hermandad-estrella.org/evento/misa-de-hermandad-16/2024-10-13/
CATEGORIES:Cultos,Eventos
END:VEVENT
END:VCALENDAR