BEGIN:VCALENDAR
VERSION:2.0
PRODID:-//Hermandad de la Estrella - ECPv6.6.4.2//NONSGML v1.0//EN
CALSCALE:GREGORIAN
METHOD:PUBLISH
X-WR-CALNAME:Hermandad de la Estrella
X-ORIGINAL-URL:https://hermandad-estrella.org
X-WR-CALDESC:Eventos para Hermandad de la Estrella
REFRESH-INTERVAL;VALUE=DURATION:PT1H
X-Robots-Tag:noindex
X-PUBLISHED-TTL:PT1H
BEGIN:VTIMEZONE
TZID:Europe/Madrid
BEGIN:DAYLIGHT
TZOFFSETFROM:+0100
TZOFFSETTO:+0200
TZNAME:CEST
DTSTART:20240331T010000
END:DAYLIGHT
BEGIN:STANDARD
TZOFFSETFROM:+0200
TZOFFSETTO:+0100
TZNAME:CET
DTSTART:20241027T010000
END:STANDARD
END:VTIMEZONE
BEGIN:VEVENT
DTSTART;TZID=Europe/Madrid:20241003T203000
DTEND;TZID=Europe/Madrid:20241003T213000
DTSTAMP:20260420T153345
CREATED:20241002T082452Z
LAST-MODIFIED:20241002T082506Z
UID:34376-1727987400-1727991000@hermandad-estrella.org
SUMMARY:Mesa Redonda ‘El Cristo de las Penas y la Virgen de la Estrella: imágenes para la historia de la escultura sevillana’
DESCRIPTION:Mesa Redonda ‘El Cristo de las Penas y la Virgen de la Estrella: imágenes para la historia de la escultura sevillana’. \nIntervienen Fran López de Paz (periodista)\, Daniel Bilbao y Guillermo Martínez (profesores de la Facultad de Bellas Artes de la Universidad de Sevilla). \nEn el Centro Cerámica Sevilla (C/ Callao\, 16. Esquina Antillano Campos). \nTodos los actos y cultos
URL:https://hermandad-estrella.org/evento/mesa-redonda-el-cristo-de-las-penas-y-la-virgen-de-la-estrella-imagenes-para-la-historia-de-la-escultura-sevillana/
CATEGORIES:Eventos
END:VEVENT
END:VCALENDAR