BEGIN:VCALENDAR
VERSION:2.0
PRODID:-//Hermandad de la Estrella - ECPv6.6.4.2//NONSGML v1.0//EN
CALSCALE:GREGORIAN
METHOD:PUBLISH
X-ORIGINAL-URL:https://hermandad-estrella.org
X-WR-CALDESC:Eventos para Hermandad de la Estrella
REFRESH-INTERVAL;VALUE=DURATION:PT1H
X-Robots-Tag:noindex
X-PUBLISHED-TTL:PT1H
BEGIN:VTIMEZONE
TZID:Europe/Madrid
BEGIN:DAYLIGHT
TZOFFSETFROM:+0100
TZOFFSETTO:+0200
TZNAME:CEST
DTSTART:20230326T010000
END:DAYLIGHT
BEGIN:STANDARD
TZOFFSETFROM:+0200
TZOFFSETTO:+0100
TZNAME:CET
DTSTART:20231029T010000
END:STANDARD
END:VTIMEZONE
BEGIN:VEVENT
DTSTART;TZID=Europe/Madrid:20231017T210000
DTEND;TZID=Europe/Madrid:20231017T220000
DTSTAMP:20260420T123032
CREATED:20231010T084100Z
LAST-MODIFIED:20231010T084100Z
UID:30260-1697576400-1697580000@hermandad-estrella.org
SUMMARY:CICLO FORMACIÓN HERMANDADES TRIANA- LOS REMEDIOS
DESCRIPTION:‘El Matrimonio como Dios lo pensó’\, por José María González-Alorda Iriarte y  Dolores Bernal Méndez\, coordinadores del Proyecto Amor Conyugal. En la Basílica del Santísimo Cristo de la Expiración\, sede de la Hermandad del Cachorro.
URL:https://hermandad-estrella.org/evento/ciclo-formacion-hermandades-triana-los-remedios-2/
CATEGORIES:Eventos
END:VEVENT
END:VCALENDAR