BEGIN:VCALENDAR
VERSION:2.0
PRODID:-//Hermandad de la Estrella - ECPv6.6.4.2//NONSGML v1.0//EN
CALSCALE:GREGORIAN
METHOD:PUBLISH
X-ORIGINAL-URL:https://hermandad-estrella.org
X-WR-CALDESC:Eventos para Hermandad de la Estrella
REFRESH-INTERVAL;VALUE=DURATION:PT1H
X-Robots-Tag:noindex
X-PUBLISHED-TTL:PT1H
BEGIN:VTIMEZONE
TZID:Europe/Madrid
BEGIN:DAYLIGHT
TZOFFSETFROM:+0100
TZOFFSETTO:+0200
TZNAME:CEST
DTSTART:20230326T010000
END:DAYLIGHT
BEGIN:STANDARD
TZOFFSETFROM:+0200
TZOFFSETTO:+0100
TZNAME:CET
DTSTART:20231029T010000
END:STANDARD
END:VTIMEZONE
BEGIN:VEVENT
DTSTART;TZID=Europe/Madrid:20231006T183000
DTEND;TZID=Europe/Madrid:20231006T200000
DTSTAMP:20260420T123032
CREATED:20230925T162809Z
LAST-MODIFIED:20230925T162809Z
UID:30167-1696617000-1696622400@hermandad-estrella.org
SUMMARY:JURA DE REGLAS
DESCRIPTION:
URL:https://hermandad-estrella.org/evento/jura-de-reglas-2/2023-10-06/
LOCATION:Capilla Virgen de la Estrella\, San Jacinto\, 41\, Sevilla\, 41010\, España
CATEGORIES:Eventos
END:VEVENT
END:VCALENDAR